BEGIN:VCALENDAR
VERSION:2.0
PRODID:-//Salt Lake Symphony - ECPv6.0.4//NONSGML v1.0//EN
CALSCALE:GREGORIAN
METHOD:PUBLISH
X-WR-CALNAME:Salt Lake Symphony
X-ORIGINAL-URL:https://new.saltlakesymphony.org
X-WR-CALDESC:Events for Salt Lake Symphony
REFRESH-INTERVAL;VALUE=DURATION:PT1H
X-Robots-Tag:noindex
X-PUBLISHED-TTL:PT1H
BEGIN:VTIMEZONE
TZID:America/Denver
BEGIN:DAYLIGHT
TZOFFSETFROM:-0700
TZOFFSETTO:-0600
TZNAME:MDT
DTSTART:20110313T090000
END:DAYLIGHT
BEGIN:STANDARD
TZOFFSETFROM:-0600
TZOFFSETTO:-0700
TZNAME:MST
DTSTART:20111106T080000
END:STANDARD
BEGIN:DAYLIGHT
TZOFFSETFROM:-0700
TZOFFSETTO:-0600
TZNAME:MDT
DTSTART:20120311T090000
END:DAYLIGHT
BEGIN:STANDARD
TZOFFSETFROM:-0600
TZOFFSETTO:-0700
TZNAME:MST
DTSTART:20121104T080000
END:STANDARD
BEGIN:DAYLIGHT
TZOFFSETFROM:-0700
TZOFFSETTO:-0600
TZNAME:MDT
DTSTART:20130310T090000
END:DAYLIGHT
BEGIN:STANDARD
TZOFFSETFROM:-0600
TZOFFSETTO:-0700
TZNAME:MST
DTSTART:20131103T080000
END:STANDARD
BEGIN:DAYLIGHT
TZOFFSETFROM:-0700
TZOFFSETTO:-0600
TZNAME:MDT
DTSTART:20140309T090000
END:DAYLIGHT
BEGIN:STANDARD
TZOFFSETFROM:-0600
TZOFFSETTO:-0700
TZNAME:MST
DTSTART:20141102T080000
END:STANDARD
END:VTIMEZONE
BEGIN:VEVENT
DTSTART;TZID=America/Denver:20140426T193000
DTEND;TZID=America/Denver:20140426T193000
DTSTAMP:20260420T220032
CREATED:20221003T174224Z
LAST-MODIFIED:20221003T174224Z
UID:2032-1398540600-1398540600@new.saltlakesymphony.org
SUMMARY:Sacred Sounds
DESCRIPTION:ConductorsRobert Baldwin\, Anton Armstrong \n\nKodály Dances of Galanta\nBloch Sacred Service Solo: Christopher Clayton\, baritone
URL:https://new.saltlakesymphony.org/event/sacred-sounds/
CATEGORIES:Concerts
END:VEVENT
BEGIN:VEVENT
DTSTART;TZID=America/Denver:20140315T193000
DTEND;TZID=America/Denver:20140315T193000
DTSTAMP:20260420T220032
CREATED:20221003T174224Z
LAST-MODIFIED:20221003T174224Z
UID:2031-1394911800-1394911800@new.saltlakesymphony.org
SUMMARY:Irish Ides are Smiling
DESCRIPTION:ConductorsRobert Baldwin \n\nWilliams\, John Symphonic Excerpts from “Far and Away”  (side by side)\nGrainger Irish Tune from County Derry Side-by-Side with high school students\nHarty In Ireland Solo: Christina Castellanos\, flute\nBeach Symphony #2 “Gaelic”
URL:https://new.saltlakesymphony.org/event/irish-ides-are-smiling/
CATEGORIES:Concerts
END:VEVENT
BEGIN:VEVENT
DTSTART;TZID=America/Denver:20140208T200000
DTEND;TZID=America/Denver:20140208T200000
DTSTAMP:20260420T220032
CREATED:20221003T174223Z
LAST-MODIFIED:20221003T174223Z
UID:2030-1391889600-1391889600@new.saltlakesymphony.org
SUMMARY:Vienna Ball
DESCRIPTION:ConductorsJong-hun Bae
URL:https://new.saltlakesymphony.org/event/vienna-ball-9/
CATEGORIES:Concerts
END:VEVENT
BEGIN:VEVENT
DTSTART;TZID=America/Denver:20140125T193000
DTEND;TZID=America/Denver:20140125T193000
DTSTAMP:20260420T220032
CREATED:20221003T174223Z
LAST-MODIFIED:20221003T174223Z
UID:2029-1390678200-1390678200@new.saltlakesymphony.org
SUMMARY:Summer Arts Piano Concerto Concert
DESCRIPTION:ConductorsJong-hun Bae
URL:https://new.saltlakesymphony.org/event/summer-arts-piano-concerto-concert/
CATEGORIES:Concerts
END:VEVENT
BEGIN:VEVENT
DTSTART;TZID=America/Denver:20140118T140000
DTEND;TZID=America/Denver:20140118T140000
DTSTAMP:20260420T220032
CREATED:20221003T174222Z
LAST-MODIFIED:20221003T174222Z
UID:2028-1390053600-1390053600@new.saltlakesymphony.org
SUMMARY:Family Concert: Symphonic Stories
DESCRIPTION:ConductorsRobert Baldwin \n\nProkofiev Peter and the Wolf\nSmith The Great Locomotive Chase\nGrieg In the Hall of a Mountain King.\nGregson-Williams Chronicles of Narnia Suite\nRimsky-Korsakov Scheherazade: Last mvt. excerpt
URL:https://new.saltlakesymphony.org/event/family-concert-symphonic-stories/
CATEGORIES:Concerts
END:VEVENT
BEGIN:VEVENT
DTSTART;TZID=America/Denver:20131207T193000
DTEND;TZID=America/Denver:20131207T193000
DTSTAMP:20260420T220032
CREATED:20221003T174222Z
LAST-MODIFIED:20221003T174222Z
UID:2027-1386444600-1386444600@new.saltlakesymphony.org
SUMMARY:Through a Child's Eyes
DESCRIPTION:ConductorsRobert Baldwin \n\nMenotti Amahl and the Night Visitors\nArnold The Holly and the Ivy (Fantasy on Christmas Carols)\ntraditional Do You Hear What I Hear? Arr: Regney/Lowden\ntraditional Mary’s Little Boy Child Arr: Hairston\ntraditional A Holly & Jolly Sing-Along
URL:https://new.saltlakesymphony.org/event/through-a-childs-eyes/
CATEGORIES:Concerts
END:VEVENT
BEGIN:VEVENT
DTSTART;TZID=America/Denver:20131109T193000
DTEND;TZID=America/Denver:20131109T193000
DTSTAMP:20260420T220032
CREATED:20221003T174222Z
LAST-MODIFIED:20221003T174222Z
UID:2026-1384025400-1384025400@new.saltlakesymphony.org
SUMMARY:East Meets West: Promoting Peace Through Music
DESCRIPTION:ConductorsRobert Baldwin \n\nIppolitov-Ivanov Procession of the Sardar from Caucasian Sketches\nMerritt Dervish\nRimsky-Korsakov Scheherazade\ntraditional Popular Persian tunes\n\nGuestMonika Jalili and her Persian Ensemble
URL:https://new.saltlakesymphony.org/event/east-meets-west-promoting-peace-through-music/
CATEGORIES:Concerts
END:VEVENT
BEGIN:VEVENT
DTSTART;TZID=America/Denver:20131005T193000
DTEND;TZID=America/Denver:20131005T193000
DTSTAMP:20260420T220032
CREATED:20221003T174213Z
LAST-MODIFIED:20221003T174213Z
UID:2025-1381001400-1381001400@new.saltlakesymphony.org
SUMMARY:Season Opener
DESCRIPTION:ConductorsRobert Baldwin \n\nWolking\, Henry Salt Lake Overture\nBrahms Double Concerto Solo: Ralph Matson\, violin; John Eckstein\, cello      \nSibelius Symphony #1
URL:https://new.saltlakesymphony.org/event/season-opener-4/
CATEGORIES:Concerts
END:VEVENT
BEGIN:VEVENT
DTSTART;TZID=America/Denver:20130518T193000
DTEND;TZID=America/Denver:20130518T193000
DTSTAMP:20260420T220032
CREATED:20221003T174404Z
LAST-MODIFIED:20221003T174404Z
UID:2045-1368905400-1368905400@new.saltlakesymphony.org
SUMMARY:Verdi: A Bicentennial Celebration
DESCRIPTION:ConductorsMichael Huff\, Lawrence Spell\, Robert Baldwin \n\nVerdi Four Sacred Pieces\nVerdi “Anvil Chorus” from Il Travatore\nVerdi La Forza del Destino Overture\nVerdi “Pace\, pace mio dio” from La Forza del Destino Solo: Melissa Heath\, soprano\nVerdi “Chorus of the Hebrew Slaves” from Nabucco (va pensiero)\nVerdi “Triumphal March” & “Ballet” from Aida\n\nGuestUtah Voices\, chorus
URL:https://new.saltlakesymphony.org/event/verdi-a-bicentennial-celebration/
CATEGORIES:Concerts
END:VEVENT
BEGIN:VEVENT
DTSTART;TZID=America/Denver:20130420T193000
DTEND;TZID=America/Denver:20130420T193000
DTSTAMP:20260420T220032
CREATED:20221003T174404Z
LAST-MODIFIED:20221003T174404Z
UID:2044-1366486200-1366486200@new.saltlakesymphony.org
SUMMARY:Music on the Orient Express
DESCRIPTION:ConductorsGerald Elias \n\nEnesco Romanian Rhapsody No. 1\nIachimciuc\, Igor Adagio\nBartók Concerto for Orchestra
URL:https://new.saltlakesymphony.org/event/music-on-the-orient-express/
CATEGORIES:Concerts
END:VEVENT
BEGIN:VEVENT
DTSTART;TZID=America/Denver:20130316T193000
DTEND;TZID=America/Denver:20130316T193000
DTSTAMP:20260420T220032
CREATED:20221003T174231Z
LAST-MODIFIED:20221003T174231Z
UID:2040-1363462200-1363462200@new.saltlakesymphony.org
SUMMARY:An Italian Odyssey
DESCRIPTION:ConductorsNicholas Palmer \n\nRossini William Tell Overture\nTchaikovsky Capriccio Italien\, op. 45\nBerlioz Harold in Italy\, op. 16 Solo: Robert Baldwin\, viola
URL:https://new.saltlakesymphony.org/event/an-italian-odyssey/
CATEGORIES:Concerts
END:VEVENT
BEGIN:VEVENT
DTSTART;TZID=America/Denver:20130209T200000
DTEND;TZID=America/Denver:20130209T200000
DTSTAMP:20260420T220032
CREATED:20221003T174231Z
LAST-MODIFIED:20221003T174231Z
UID:2039-1360440000-1360440000@new.saltlakesymphony.org
SUMMARY:Vienna Ball
DESCRIPTION:ConductorsRobert Baldwin
URL:https://new.saltlakesymphony.org/event/vienna-ball-10/
CATEGORIES:Concerts
END:VEVENT
BEGIN:VEVENT
DTSTART;TZID=America/Denver:20130126T140000
DTEND;TZID=America/Denver:20130126T140000
DTSTAMP:20260420T220032
CREATED:20221003T174230Z
LAST-MODIFIED:20221003T174230Z
UID:2038-1359208800-1359208800@new.saltlakesymphony.org
SUMMARY:Family Concert – Mechanized Musical Magic: Getting from Here to There
DESCRIPTION:Just how do you plan to get to our Family Concert on January 26th? No doubt you’ll take a car\, train\, or bicycle. Maybe it’ll be a horse\, helicopter or spaceship! However you arrive\, you’ll enjoy and relate to our theme: Mechanized Musical Magic. It’s a short concert\, but a fast ride for the entire family. All ages welcome! Hold on to your hats and keep your hands inside the concert at all times! \nConductorsLarry Spell\, Robert Baldwin\, Jong-hun Bae \n\nRossini William Tell Overture\nHonneger Pacific 231\nRodgers Carousel Waltz Arr: Custer\nNewman The Big Race from “Cars” Arr: Sacks\nAdams Short Ride in a Fast Machine\nMancini March with Mancini\nWilliams\, John Star Wars Selections Arr: Burden
URL:https://new.saltlakesymphony.org/event/family-concert-mechanized-musical-magic-getting-from-here-to-there/
CATEGORIES:Concerts
END:VEVENT
BEGIN:VEVENT
DTSTART;TZID=America/Denver:20121215T193000
DTEND;TZID=America/Denver:20121215T193000
DTSTAMP:20260420T220032
CREATED:20221003T174230Z
LAST-MODIFIED:20221003T174230Z
UID:2037-1355599800-1355599800@new.saltlakesymphony.org
SUMMARY:We Three Kings
DESCRIPTION:ConductorsRobert Baldwin \n\nEllington  Three Black Kings \nRespighi  Three Botticelli Pictures\nMenotti  Amahl and the Night Visitors
URL:https://new.saltlakesymphony.org/event/we-three-kings/
CATEGORIES:Concerts
END:VEVENT
BEGIN:VEVENT
DTSTART;TZID=America/Denver:20121110T193000
DTEND;TZID=America/Denver:20121110T193000
DTSTAMP:20260420T220032
CREATED:20221003T174230Z
LAST-MODIFIED:20221003T174230Z
UID:2036-1352575800-1352575800@new.saltlakesymphony.org
SUMMARY:Concert
DESCRIPTION:ConductorsRobert Baldwin \n\nBeethoven Overture to Egmont Side-by-Side with high school students\nCopland Clarinet Concerto Solo: Robert Walzel\, clarinet\nTchaikovsky Symphony #5
URL:https://new.saltlakesymphony.org/event/concert-7/
CATEGORIES:Concerts
END:VEVENT
BEGIN:VEVENT
DTSTART;TZID=America/Denver:20121013T190000
DTEND;TZID=America/Denver:20121013T190000
DTSTAMP:20260420T220032
CREATED:20221003T174224Z
LAST-MODIFIED:20221003T174224Z
UID:2035-1350154800-1350154800@new.saltlakesymphony.org
SUMMARY:Sound and Light: Playing and Painting for a Purpose
DESCRIPTION:ConductorsRobert Baldwin \n\nRimsky-Korsakov Russian Easter Overture\nBach Passacaglia and Fugue in C Minor BWV 582 Arr: Stokowski\nPurcell\, Henry Chacony\nRespighi Roman Festivals
URL:https://new.saltlakesymphony.org/event/sound-and-light-playing-and-painting-for-a-purpose/
CATEGORIES:Concerts
END:VEVENT
BEGIN:VEVENT
DTSTART;TZID=America/Denver:20120908T193000
DTEND;TZID=America/Denver:20120908T193000
DTSTAMP:20260420T220032
CREATED:20221003T174224Z
LAST-MODIFIED:20221003T174224Z
UID:2034-1347132600-1347132600@new.saltlakesymphony.org
SUMMARY:SummerArts Piano Concerto Concert
DESCRIPTION:ConductorsRobert Baldwin and Larry Spell
URL:https://new.saltlakesymphony.org/event/summerarts-piano-concerto-concert/
CATEGORIES:Concerts
END:VEVENT
BEGIN:VEVENT
DTSTART;TZID=America/Denver:20120621T200000
DTEND;TZID=America/Denver:20120621T200000
DTSTAMP:20260420T220032
CREATED:20221003T174636Z
LAST-MODIFIED:20221003T174636Z
UID:2056-1340308800-1340308800@new.saltlakesymphony.org
SUMMARY:Utah Arts Festival
DESCRIPTION:ConductorsRobert Baldwin
URL:https://new.saltlakesymphony.org/event/utah-arts-festival-2/
CATEGORIES:Concerts
END:VEVENT
BEGIN:VEVENT
DTSTART;TZID=America/Denver:20120519T193000
DTEND;TZID=America/Denver:20120519T193000
DTSTAMP:20260420T220032
CREATED:20221003T174636Z
LAST-MODIFIED:20221003T174636Z
UID:2055-1337455800-1337455800@new.saltlakesymphony.org
SUMMARY:Exploring Personality
DESCRIPTION:ConductorsRobert Baldwin \n\nBernstein On the Waterfront\nElgar Enigma Variations
URL:https://new.saltlakesymphony.org/event/exploring-personality/
CATEGORIES:Concerts
END:VEVENT
BEGIN:VEVENT
DTSTART;TZID=America/Denver:20120421T193000
DTEND;TZID=America/Denver:20120421T193000
DTSTAMP:20260420T220032
CREATED:20221003T174606Z
LAST-MODIFIED:20221003T174606Z
UID:2054-1335036600-1335036600@new.saltlakesymphony.org
SUMMARY:Spring Concert
DESCRIPTION:ConductorsJong-hun Bae \n\nMendelssohn Concerto for Two Pianos in Ab Solo: Susan Duehlmeier and Bonnie Gritton\, pianos\nBrahms Symphony #1 in C minor
URL:https://new.saltlakesymphony.org/event/spring-concert/
CATEGORIES:Concerts
END:VEVENT
BEGIN:VEVENT
DTSTART;TZID=America/Denver:20120317T193000
DTEND;TZID=America/Denver:20120317T193000
DTSTAMP:20260420T220032
CREATED:20221003T174606Z
LAST-MODIFIED:20221003T174606Z
UID:2053-1332012600-1332012600@new.saltlakesymphony.org
SUMMARY:Glorious Beethoven
DESCRIPTION:ConductorsMichael Huff\, Robert Baldwin \n\nBeethoven Gloria from Missa Solemnis\nBeethoven Symphony #9 “Choral” Solo: Jennifer Larson\, soprano;Kirsten Gunlogson\, mezzo-soprano;Robert Breault\, tenor;Steve Meredith\, baritone\n\nGuestUtah Voices\, chorus
URL:https://new.saltlakesymphony.org/event/glorious-beethoven/
CATEGORIES:Concerts
END:VEVENT
BEGIN:VEVENT
DTSTART;TZID=America/Denver:20120211T200000
DTEND;TZID=America/Denver:20120211T200000
DTSTAMP:20260420T220032
CREATED:20221003T174606Z
LAST-MODIFIED:20221003T174606Z
UID:2052-1328990400-1328990400@new.saltlakesymphony.org
SUMMARY:Vienna Ball
DESCRIPTION:ConductorsRobert Baldwin
URL:https://new.saltlakesymphony.org/event/vienna-ball-11/
CATEGORIES:Concerts
END:VEVENT
BEGIN:VEVENT
DTSTART;TZID=America/Denver:20120128T193000
DTEND;TZID=America/Denver:20120128T193000
DTSTAMP:20260420T220032
CREATED:20221003T174605Z
LAST-MODIFIED:20221003T174605Z
UID:2051-1327779000-1327779000@new.saltlakesymphony.org
SUMMARY:Piano Concerto Night
DESCRIPTION:ConductorsJong-hun Bae
URL:https://new.saltlakesymphony.org/event/piano-concerto-night/
CATEGORIES:Concerts
END:VEVENT
BEGIN:VEVENT
DTSTART;TZID=America/Denver:20120121T193000
DTEND;TZID=America/Denver:20120121T193000
DTSTAMP:20260420T220032
CREATED:20221003T174605Z
LAST-MODIFIED:20221003T174605Z
UID:2050-1327174200-1327174200@new.saltlakesymphony.org
SUMMARY:Family Fun Concert: “Up in the Air”
DESCRIPTION:ConductorsRobert Baldwin \n\nWilliams\, John Superman March\nVivaldi Spring (Bird) from The Four Seasons\nBeethoven Storm from Symphony #6\nBaker\, Buddy Winnie the Pooh and the Blustery Day Arr: Bowen\, Marshall Solo: April Greenan\, narrator\nWagner The Ride of the Valkyries\nHolst Jupiter (The Planets)\nMancini The Great Waldo Pepper March
URL:https://new.saltlakesymphony.org/event/family-fun-concert-up-in-the-air/
CATEGORIES:Concerts
END:VEVENT
BEGIN:VEVENT
DTSTART;TZID=America/Denver:20111217T193000
DTEND;TZID=America/Denver:20111217T193000
DTSTAMP:20260420T220032
CREATED:20221003T174405Z
LAST-MODIFIED:20221003T174405Z
UID:2048-1324150200-1324150200@new.saltlakesymphony.org
SUMMARY:Holiday Concert
DESCRIPTION:ConductorsRobert Baldwin\, Kelly DeHaan \n\nBimstein\, Phillip Secret Gift song cycle Solo: Red Rock Rondo\n\nGuestWest Jordan High School Choir\,
URL:https://new.saltlakesymphony.org/event/holiday-concert/
CATEGORIES:Concerts
END:VEVENT
BEGIN:VEVENT
DTSTART;TZID=America/Denver:20111112T193000
DTEND;TZID=America/Denver:20111112T193000
DTSTAMP:20260420T220032
CREATED:20221003T174404Z
LAST-MODIFIED:20221003T174404Z
UID:2047-1321126200-1321126200@new.saltlakesymphony.org
SUMMARY:The Heights of Imagination
DESCRIPTION:ConductorsRobert Baldwin \n\nMendelssohn Hebrides Overture Side-by-Side with high school students\nSaint-Saëns Introduction and Rondo Capriccioso Solo: Jenny Oaks Baker\, violin\nDisney Once Upon a Dream Arr: Bestor Solo: Jenny Oaks Baker\, violin\nDisney A Whole New World Arr: Bestor Solo: Jenny Oaks Baker\, violin\nDisney Can You Feel the Love Tonight Arr: Bestor Solo: Jenny Oaks Baker\, violin\nDebussy Nocturnes
URL:https://new.saltlakesymphony.org/event/the-heights-of-imagination/
CATEGORIES:Concerts
END:VEVENT
BEGIN:VEVENT
DTSTART;TZID=America/Denver:20111008T193000
DTEND;TZID=America/Denver:20111008T193000
DTSTAMP:20260420T220032
CREATED:20221003T174404Z
LAST-MODIFIED:20221003T174404Z
UID:2046-1318102200-1318102200@new.saltlakesymphony.org
SUMMARY:Season Opener
DESCRIPTION:ConductorsRobert Baldwin \n\nSchuman\, William New England Triptych\nFuchs\, Kenneth Falling Man Commemorating tenth anniversary of  9/11\, text by Don DeLillo\, adapted by J. D. McClatchy Solo: Michael Chipman\, baritone\nMahler Symphony #4 Solo: Erin McOmber\, soprano
URL:https://new.saltlakesymphony.org/event/season-opener-5/
CATEGORIES:Concerts
END:VEVENT
BEGIN:VEVENT
DTSTART;TZID=America/Denver:20110702T200000
DTEND;TZID=America/Denver:20110702T200000
DTSTAMP:20260420T220032
CREATED:20221003T180146Z
LAST-MODIFIED:20221003T180146Z
UID:2214-1309636800-1309636800@new.saltlakesymphony.org
SUMMARY:City of South Salt Lake Freedom Festival
DESCRIPTION:ConductorsJong-hun Bae
URL:https://new.saltlakesymphony.org/event/city-of-south-salt-lake-freedom-festival/
CATEGORIES:Concerts
END:VEVENT
BEGIN:VEVENT
DTSTART;TZID=America/Denver:20110521T193000
DTEND;TZID=America/Denver:20110521T193000
DTSTAMP:20260420T220032
CREATED:20221003T180146Z
LAST-MODIFIED:20221003T180146Z
UID:2213-1306006200-1306006200@new.saltlakesymphony.org
SUMMARY:American Roots
DESCRIPTION:ConductorsMichael Huff\, Robert Baldwin \n\nBestor\, Kurt Timpanogos\nCopland Appalachian Spring\nTaylor\, Calvin Choral Fantasia on “Deep River”\n\nGuestUtah Voices\, chorus
URL:https://new.saltlakesymphony.org/event/american-roots/
CATEGORIES:Concerts
END:VEVENT
BEGIN:VEVENT
DTSTART;TZID=America/Denver:20110430T193000
DTEND;TZID=America/Denver:20110430T193000
DTSTAMP:20260420T220032
CREATED:20221003T180146Z
LAST-MODIFIED:20221003T180146Z
UID:2212-1304191800-1304191800@new.saltlakesymphony.org
SUMMARY:Romantic Expressions
DESCRIPTION:ConductorsBarbara Scowcroft \n\nBruckner Symphony #4\, Romantic\nGrieg The Last Spring
URL:https://new.saltlakesymphony.org/event/romantic-expressions/
CATEGORIES:Concerts
END:VEVENT
END:VCALENDAR